BEGIN:VCALENDAR
VERSION:2.0
PRODID:-//Mo-Kan Pet Partners - ECPv6.6.4.2//NONSGML v1.0//EN
CALSCALE:GREGORIAN
METHOD:PUBLISH
X-WR-CALNAME:Mo-Kan Pet Partners
X-ORIGINAL-URL:https://mo-kanpetpartners.org
X-WR-CALDESC:Events for Mo-Kan Pet Partners
REFRESH-INTERVAL;VALUE=DURATION:PT1H
X-Robots-Tag:noindex
X-PUBLISHED-TTL:PT1H
BEGIN:VTIMEZONE
TZID:America/Chicago
BEGIN:DAYLIGHT
TZOFFSETFROM:-0600
TZOFFSETTO:-0500
TZNAME:CDT
DTSTART:20240310T080000
END:DAYLIGHT
BEGIN:STANDARD
TZOFFSETFROM:-0500
TZOFFSETTO:-0600
TZNAME:CST
DTSTART:20241103T070000
END:STANDARD
BEGIN:DAYLIGHT
TZOFFSETFROM:-0600
TZOFFSETTO:-0500
TZNAME:CDT
DTSTART:20250309T080000
END:DAYLIGHT
BEGIN:STANDARD
TZOFFSETFROM:-0500
TZOFFSETTO:-0600
TZNAME:CST
DTSTART:20251102T070000
END:STANDARD
END:VTIMEZONE
BEGIN:VEVENT
DTSTART;TZID=America/Chicago:20251007T183000
DTEND;TZID=America/Chicago:20251007T193000
DTSTAMP:20260423T071617
CREATED:20250713T204655Z
LAST-MODIFIED:20250713T204655Z
UID:2411-1759861800-1759865400@mo-kanpetpartners.org
SUMMARY:10/7/25 Volunteering With Your Pet  6:30 PM
DESCRIPTION:This free workshop is designed to introduce the Pet Partners Therapy Animal Program as a way of voluntereing in your community with your pet. We will cover program requirements as well as the process for becoming a registered therapy animal team. \nContact Julie Goodman at jajugoodman@gmail.com for the Zoom link.
URL:https://mo-kanpetpartners.org/event/10-7-25-volunteering-with-your-pet-630-pm/
LOCATION:KS
CATEGORIES:Zoom Workshop
END:VEVENT
BEGIN:VEVENT
DTSTART;TZID=America/Chicago:20251004T080000
DTEND;TZID=America/Chicago:20251004T130000
DTSTAMP:20260423T071617
CREATED:20241016T195529Z
LAST-MODIFIED:20241016T195529Z
UID:2352-1759564800-1759582800@mo-kanpetpartners.org
SUMMARY:10/4/25 - Team Evaluations at Providence Medical Center
DESCRIPTION:
URL:https://mo-kanpetpartners.org/event/10-4-25-team-evaluations-at-providence-medical-center/
LOCATION:Providence Medical Center\, 8929 Parallel Parkway\, Kansas City\, KS\, 66112\, United States
END:VEVENT
BEGIN:VEVENT
DTSTART;TZID=America/Chicago:20250916T183000
DTEND;TZID=America/Chicago:20250916T193000
DTSTAMP:20260423T071617
CREATED:20250713T204536Z
LAST-MODIFIED:20250713T204536Z
UID:2410-1758047400-1758051000@mo-kanpetpartners.org
SUMMARY:9/16/25 Volunteering With Your Pet 6:30 PM
DESCRIPTION:This free workshop is designed to introduce the Pet Partners Therapy Animal Program as a way of voluntereing in your community with your pet. We will cover program requirements as well as the process for becoming a registered therapy animal team. \nContact Julie Goodman at jajugoodman@gmail.com for the Zoom link.
URL:https://mo-kanpetpartners.org/event/9-16-25-volunteering-with-your-pet-630-pm/
LOCATION:KS
CATEGORIES:Zoom Workshop
END:VEVENT
BEGIN:VEVENT
DTSTART;TZID=America/Chicago:20250906T080000
DTEND;TZID=America/Chicago:20250906T130000
DTSTAMP:20260423T071617
CREATED:20241016T195414Z
LAST-MODIFIED:20241016T195414Z
UID:2351-1757145600-1757163600@mo-kanpetpartners.org
SUMMARY:9/6/25 - Team Evaluations at Providence Medical Center
DESCRIPTION:
URL:https://mo-kanpetpartners.org/event/9-6-25-team-evaluations-at-providence-medical-center/
LOCATION:Providence Medical Center\, 8929 Parallel Parkway\, Kansas City\, KS\, 66112\, United States
END:VEVENT
BEGIN:VEVENT
DTSTART;TZID=America/Chicago:20250902T183000
DTEND;TZID=America/Chicago:20250902T193000
DTSTAMP:20260423T071617
CREATED:20250713T204420Z
LAST-MODIFIED:20250713T204420Z
UID:2409-1756837800-1756841400@mo-kanpetpartners.org
SUMMARY:9/2/25 Volunteering With Your Pet 6:30 PM
DESCRIPTION:This free workshop is designed to introduce the Pet Partners Therapy Animal Program as a way of voluntereing in your community with your pet. We will cover program requirements as well as the process for becoming a registered therapy animal team. \nContact Julie Goodman at jajugoodman@gmail.com for the Zoom link.
URL:https://mo-kanpetpartners.org/event/9-2-25-volunteering-with-your-pet-630-pm/
LOCATION:KS
CATEGORIES:Zoom Workshop
END:VEVENT
BEGIN:VEVENT
DTSTART;TZID=America/Chicago:20250812T183000
DTEND;TZID=America/Chicago:20250812T193000
DTSTAMP:20260423T071617
CREATED:20250713T204242Z
LAST-MODIFIED:20250713T204242Z
UID:2408-1755023400-1755027000@mo-kanpetpartners.org
SUMMARY:8/12/25 Volunteering With Your Pet 6:30 PM
DESCRIPTION:This free workshop is designed to introduce the Pet Partners Therapy Animal Program as a way of voluntereing in your community with your pet. We will cover program requirements as well as the process for becoming a registered therapy animal team. \nContact Julie Goodman at jajugoodman@gmail.com for the Zoom link.
URL:https://mo-kanpetpartners.org/event/8-12-25-volunteering-with-your-pet-630-pm/
LOCATION:KS
CATEGORIES:Zoom Workshop
END:VEVENT
BEGIN:VEVENT
DTSTART;TZID=America/Chicago:20250802T080000
DTEND;TZID=America/Chicago:20250802T130000
DTSTAMP:20260423T071617
CREATED:20241016T195343Z
LAST-MODIFIED:20241016T195343Z
UID:2350-1754121600-1754139600@mo-kanpetpartners.org
SUMMARY:8/2/25 - Team Evaluations at Providence Medical Center
DESCRIPTION:
URL:https://mo-kanpetpartners.org/event/8-2-25-team-evaluations-at-providence-medical-center/
LOCATION:Providence Medical Center\, 8929 Parallel Parkway\, Kansas City\, KS\, 66112\, United States
END:VEVENT
BEGIN:VEVENT
DTSTART;TZID=America/Chicago:20250705T080000
DTEND;TZID=America/Chicago:20250705T130000
DTSTAMP:20260423T071617
CREATED:20241016T195301Z
LAST-MODIFIED:20241016T195301Z
UID:2349-1751702400-1751720400@mo-kanpetpartners.org
SUMMARY:7/5/25 - Team Evaluations at Providence Medical Center
DESCRIPTION:
URL:https://mo-kanpetpartners.org/event/7-5-25-team-evaluations-at-providence-medical-center/
LOCATION:Providence Medical Center\, 8929 Parallel Parkway\, Kansas City\, KS\, 66112\, United States
END:VEVENT
BEGIN:VEVENT
DTSTART;TZID=America/Chicago:20250607T080000
DTEND;TZID=America/Chicago:20250607T130000
DTSTAMP:20260423T071617
CREATED:20241016T194905Z
LAST-MODIFIED:20250120T040237Z
UID:2348-1749283200-1749301200@mo-kanpetpartners.org
SUMMARY:6/7/25 - Team Evaluations at Providence Medical Center
DESCRIPTION:
URL:https://mo-kanpetpartners.org/event/6-7-25-team-evaluations-at-providence-medical-center/
LOCATION:Providence Medical Center\, 8929 Parallel Parkway\, Kansas City\, KS\, 66112\, United States
END:VEVENT
BEGIN:VEVENT
DTSTART;TZID=America/Chicago:20250520T183000
DTEND;TZID=America/Chicago:20250520T193000
DTSTAMP:20260423T071617
CREATED:20250106T200203Z
LAST-MODIFIED:20250106T200203Z
UID:2377-1747765800-1747769400@mo-kanpetpartners.org
SUMMARY:Volunteering With Your Pet 5/20/2025
DESCRIPTION:This free event is designed to introduce the Pet Partners Therapy Animal Program as a way of volunteering in your community with your pet. We will cover program requirements as well as the process for becoming a registered therapy animal team. \nContact Julie Goodman at jajugoodman@gmail.com for the Zoom link.
URL:https://mo-kanpetpartners.org/event/volunteering-with-your-pet-5-20-2025/
LOCATION:KS
CATEGORIES:Zoom Workshop
END:VEVENT
BEGIN:VEVENT
DTSTART;TZID=America/Chicago:20250506T183000
DTEND;TZID=America/Chicago:20250506T193000
DTSTAMP:20260423T071617
CREATED:20250106T195912Z
LAST-MODIFIED:20250106T195912Z
UID:2375-1746556200-1746559800@mo-kanpetpartners.org
SUMMARY:Volunteering With Your Pet 5/6/2025
DESCRIPTION:This free event is designed to introduce the Pet Partners Therapy Animal Program as a way of volunteering in your community with your pet. We will cover program requirements as well as the process for becoming a registered therapy animal team. \nContact Julie Goodman at jajugoodman@gmail.com for the Zoom link.
URL:https://mo-kanpetpartners.org/event/volunteering-with-your-pet-5-6-2025/
LOCATION:KS
CATEGORIES:Zoom Workshop
END:VEVENT
BEGIN:VEVENT
DTSTART;TZID=America/Chicago:20250503T080000
DTEND;TZID=America/Chicago:20250503T130000
DTSTAMP:20260423T071617
CREATED:20241016T194803Z
LAST-MODIFIED:20241016T195151Z
UID:2347-1746259200-1746277200@mo-kanpetpartners.org
SUMMARY:5/3/25 - Team Evaluations at Providence Medical Center
DESCRIPTION:
URL:https://mo-kanpetpartners.org/event/5-3-25-team-evaluations-at-providence-medical-center/
LOCATION:Providence Medical Center\, 8929 Parallel Parkway\, Kansas City\, KS\, 66112\, United States
END:VEVENT
BEGIN:VEVENT
DTSTART;TZID=America/Chicago:20250422T183000
DTEND;TZID=America/Chicago:20250422T193000
DTSTAMP:20260423T071617
CREATED:20250106T195457Z
LAST-MODIFIED:20250106T200044Z
UID:2374-1745346600-1745350200@mo-kanpetpartners.org
SUMMARY:Volunteering With Your Pet 4/22/2025
DESCRIPTION:This free event is designed to introduce the Pet Partners Therapy Animal Program as a way of volunteering in your community with your pet. We will cover program requirements as well as the process for becoming a registered therapy animal team. \nContact Julie Goodman at jajugoodman@gmail.com for the Zoom link.
URL:https://mo-kanpetpartners.org/event/volunteering-with-your-pet-4-22-2025/
LOCATION:KS
CATEGORIES:Zoom Workshop
END:VEVENT
BEGIN:VEVENT
DTSTART;TZID=America/Chicago:20250408T183000
DTEND;TZID=America/Chicago:20250408T193000
DTSTAMP:20260423T071618
CREATED:20250106T194848Z
LAST-MODIFIED:20250106T195619Z
UID:2372-1744137000-1744140600@mo-kanpetpartners.org
SUMMARY:Volunteering With Your Pet 4/8/2025
DESCRIPTION:This free event is designed to introduce the Pet Partners Therapy Animal Program as a way of volunteering in your community with your pet. We will cover program requirements as well as the process for becoming a registered therapy animal team. \nContact Julie Goodman at jajugoodman@gmail.com for the Zoom link.
URL:https://mo-kanpetpartners.org/event/volunteering-with-your-pet-4-8-2025/
LOCATION:KS
CATEGORIES:Zoom Workshop
END:VEVENT
BEGIN:VEVENT
DTSTART;TZID=America/Chicago:20250405T080000
DTEND;TZID=America/Chicago:20250405T130000
DTSTAMP:20260423T071618
CREATED:20241016T194716Z
LAST-MODIFIED:20241016T195120Z
UID:2346-1743840000-1743858000@mo-kanpetpartners.org
SUMMARY:4/5/25 - Team Evaluations at Providence Medical Center
DESCRIPTION:
URL:https://mo-kanpetpartners.org/event/4-5-25-team-evaluations-at-providence-medical-center/
LOCATION:Providence Medical Center\, 8929 Parallel Parkway\, Kansas City\, KS\, 66112\, United States
END:VEVENT
BEGIN:VEVENT
DTSTART;TZID=America/Chicago:20250318T183000
DTEND;TZID=America/Chicago:20250318T193000
DTSTAMP:20260423T071618
CREATED:20250106T194749Z
LAST-MODIFIED:20250106T195647Z
UID:2371-1742322600-1742326200@mo-kanpetpartners.org
SUMMARY:Volunteering With Your Pet 3/18/2025
DESCRIPTION:This free event is designed to introduce the Pet Partners Therapy Animal Program as a way of volunteering in your community with your pet. We will cover program requirements as well as the process for becoming a registered therapy animal team. \nContact Julie Goodman at jajugoodman@gmail.com for the Zoom link.
URL:https://mo-kanpetpartners.org/event/volunteering-with-your-pet-3-18-2025/
LOCATION:KS
CATEGORIES:Zoom Workshop
END:VEVENT
BEGIN:VEVENT
DTSTART;TZID=America/Chicago:20250304T183000
DTEND;TZID=America/Chicago:20250304T193000
DTSTAMP:20260423T071618
CREATED:20250106T194700Z
LAST-MODIFIED:20250106T195714Z
UID:2370-1741113000-1741116600@mo-kanpetpartners.org
SUMMARY:Volunteering With Your Pet 3/4/2025
DESCRIPTION:This free event is designed to introduce the Pet Partners Therapy Animal Program as a way of volunteering in your community with your pet. We will cover program requirements as well as the process for becoming a registered therapy animal team. \nContact Julie Goodman at jajugoodman@gmail.com for the Zoom link.
URL:https://mo-kanpetpartners.org/event/volunteering-with-your-pet-3-4-2025/
LOCATION:KS
CATEGORIES:Zoom Workshop
END:VEVENT
BEGIN:VEVENT
DTSTART;TZID=America/Chicago:20250301T080000
DTEND;TZID=America/Chicago:20250301T130000
DTSTAMP:20260423T071618
CREATED:20241016T194644Z
LAST-MODIFIED:20241016T194644Z
UID:2345-1740816000-1740834000@mo-kanpetpartners.org
SUMMARY:3/1/25 - Team Evaluations at Providence Medical Center
DESCRIPTION:
URL:https://mo-kanpetpartners.org/event/3-1-25-team-evaluations-at-providence-medical-center/
LOCATION:Providence Medical Center\, 8929 Parallel Parkway\, Kansas City\, KS\, 66112\, United States
END:VEVENT
BEGIN:VEVENT
DTSTART;TZID=America/Chicago:20250218T183000
DTEND;TZID=America/Chicago:20250218T193000
DTSTAMP:20260423T071618
CREATED:20250106T194559Z
LAST-MODIFIED:20250106T195753Z
UID:2369-1739903400-1739907000@mo-kanpetpartners.org
SUMMARY:Volunteering With Your Pet 2/18/2025
DESCRIPTION:This free event is designed to introduce the Pet Partners Therapy Animal Program as a way of volunteering in your community with your pet. We will cover program requirements as well as the process for becoming a registered therapy animal team. \nContact Julie Goodman at jajugoodman@gmail.com for the Zoom link.
URL:https://mo-kanpetpartners.org/event/volunteering-with-your-pet-2-18-2025/
LOCATION:KS
CATEGORIES:Zoom Workshop
END:VEVENT
BEGIN:VEVENT
DTSTART;TZID=America/Chicago:20250204T183000
DTEND;TZID=America/Chicago:20250204T193000
DTSTAMP:20260423T071618
CREATED:20250106T194156Z
LAST-MODIFIED:20250106T194156Z
UID:2364-1738693800-1738697400@mo-kanpetpartners.org
SUMMARY:Volunteering With Your Pet 2/4/2025
DESCRIPTION:This free event is designed to introduce the Pet Partners Therapy Animal Program as a way of volunteering in your community with your pet. We will cover program requirements as well as the process for becoming a registered therapy animal team. \nContact Julie Goodman at jajugoodman@gmail.com for the Zoom link.
URL:https://mo-kanpetpartners.org/event/volunteering-with-your-pet-2-4-2025/
LOCATION:KS
CATEGORIES:Zoom Workshop
END:VEVENT
BEGIN:VEVENT
DTSTART;TZID=America/Chicago:20250201T080000
DTEND;TZID=America/Chicago:20250201T130000
DTSTAMP:20260423T071618
CREATED:20241016T194539Z
LAST-MODIFIED:20241016T194539Z
UID:2344-1738396800-1738414800@mo-kanpetpartners.org
SUMMARY:2/1/25 - Team Evaluations at Providence Medical Center
DESCRIPTION:
URL:https://mo-kanpetpartners.org/event/2-1-25-team-evaluations-at-providence-medical-center/
LOCATION:Providence Medical Center\, 8929 Parallel Parkway\, Kansas City\, KS\, 66112\, United States
END:VEVENT
BEGIN:VEVENT
DTSTART;TZID=America/Chicago:20250121T183000
DTEND;TZID=America/Chicago:20250121T193000
DTSTAMP:20260423T071618
CREATED:20240915T190349Z
LAST-MODIFIED:20240915T190349Z
UID:2328-1737484200-1737487800@mo-kanpetpartners.org
SUMMARY:1/21/2025 Volunteering With Your Pet
DESCRIPTION:This free workshop is designed to introduce the Pet Partners Therapy Animal Program as a way of volunteering in your community with your pet. We will cover program requirements as well as the steps in the process to become a registered therapy animal team. \nContact Julie Goodman at jajugoodman@gmail.com for the Zoom link.
URL:https://mo-kanpetpartners.org/event/1-21-2025-volunteering-with-your-pet/
LOCATION:KS
CATEGORIES:Zoom Workshop
END:VEVENT
BEGIN:VEVENT
DTSTART;TZID=America/Chicago:20250107T183000
DTEND;TZID=America/Chicago:20250107T193000
DTSTAMP:20260423T071618
CREATED:20240915T190255Z
LAST-MODIFIED:20240915T190255Z
UID:2326-1736274600-1736278200@mo-kanpetpartners.org
SUMMARY:1/7/2025 Volunteering With Your Pet
DESCRIPTION:This free workshop is designed to introduce the Pet Partners Therapy Animal Program as a way of volunteering in your community with your pet. We will cover program requirements as well as the steps in the process to become a registered therapy animal team. \nContact Julie Goodman at jajugoodman@gmail.com for the Zoom link.
URL:https://mo-kanpetpartners.org/event/1-7-2025-volunteering-with-your-pet/
LOCATION:KS
CATEGORIES:Zoom Workshop
END:VEVENT
BEGIN:VEVENT
DTSTART;TZID=America/Chicago:20250104T080000
DTEND;TZID=America/Chicago:20250104T130000
DTSTAMP:20260423T071618
CREATED:20241016T193903Z
LAST-MODIFIED:20241016T194129Z
UID:2341-1735977600-1735995600@mo-kanpetpartners.org
SUMMARY:1/4/25 Team Evaluations at Providence Medical Center
DESCRIPTION:
URL:https://mo-kanpetpartners.org/event/november-2-2024-team-evaluations-at-providence-medical-center/
LOCATION:Providence Medical Center\, 8929 Parallel Parkway\, Kansas City\, KS\, 66112\, United States
END:VEVENT
BEGIN:VEVENT
DTSTART;TZID=America/Chicago:20241217T183000
DTEND;TZID=America/Chicago:20241217T193000
DTSTAMP:20260423T071618
CREATED:20240915T190148Z
LAST-MODIFIED:20240915T190148Z
UID:2325-1734460200-1734463800@mo-kanpetpartners.org
SUMMARY:12/17 Volunteering With Your Pet
DESCRIPTION:This free workshop is designed to introduce the Pet Partners Therapy Animal Program as a way of volunteering in your community with your pet. We will cover program requirements as well as the steps in the process to become a registered therapy animal team. \nContact Julie Goodman at jajugoodman@gmail.com for the Zoom link.
URL:https://mo-kanpetpartners.org/event/12-17-volunteering-with-your-pet/
LOCATION:KS
CATEGORIES:Zoom Workshop
END:VEVENT
BEGIN:VEVENT
DTSTART;TZID=America/Chicago:20241207T080000
DTEND;TZID=America/Chicago:20241207T130000
DTSTAMP:20260423T071618
CREATED:20241016T194405Z
LAST-MODIFIED:20241016T194405Z
UID:2343-1733558400-1733576400@mo-kanpetpartners.org
SUMMARY:12/7/24 - Team Evaluations at Providence Medical Center
DESCRIPTION:12/
URL:https://mo-kanpetpartners.org/event/12-7-24-team-evaluations-at-providence-medical-center/
LOCATION:Providence Medical Center\, 8929 Parallel Parkway\, Kansas City\, KS\, 66112\, United States
END:VEVENT
BEGIN:VEVENT
DTSTART;TZID=America/Chicago:20241203T183000
DTEND;TZID=America/Chicago:20241203T193000
DTSTAMP:20260423T071618
CREATED:20240915T190053Z
LAST-MODIFIED:20240915T190053Z
UID:2324-1733250600-1733254200@mo-kanpetpartners.org
SUMMARY:12/3 Volunteering With Your Pet
DESCRIPTION:This free workshop is designed to introduce the Pet Partners Therapy Animal Program as a way of volunteering in your community with your pet. We will cover program requirements as well as the steps in the process to become a registered therapy animal team. \nContact Julie Goodman at jajugoodman@gmail.com for the Zoom link.
URL:https://mo-kanpetpartners.org/event/12-3-volunteering-with-your-pet/
LOCATION:KS
CATEGORIES:Zoom Workshop
END:VEVENT
BEGIN:VEVENT
DTSTART;TZID=America/Chicago:20241112T183000
DTEND;TZID=America/Chicago:20241112T193000
DTSTAMP:20260423T071618
CREATED:20240915T185942Z
LAST-MODIFIED:20240915T185942Z
UID:2323-1731436200-1731439800@mo-kanpetpartners.org
SUMMARY:11/12 Volunteering With Your Pet
DESCRIPTION:This free workshop is designed to introduce the Pet Partners Therapy Animal Program as a way of volunteering in your community with your pet. We will cover program requirements as well as the steps in the process to become a registered therapy animal team. \nContact Julie Goodman at jajugoodman@gmail.com for the Zoom link.
URL:https://mo-kanpetpartners.org/event/11-12-volunteering-with-your-pet/
LOCATION:KS
CATEGORIES:Zoom Workshop
END:VEVENT
BEGIN:VEVENT
DTSTART;TZID=America/Chicago:20241102T080000
DTEND;TZID=America/Chicago:20241102T130000
DTSTAMP:20260423T071618
CREATED:20241016T194233Z
LAST-MODIFIED:20241016T194233Z
UID:2342-1730534400-1730552400@mo-kanpetpartners.org
SUMMARY:11/2/24 - Team Evaluations at Providence Medical Center
DESCRIPTION:
URL:https://mo-kanpetpartners.org/event/11-2-24-team-evaluations-at-providence-medical-center/
LOCATION:Providence Medical Center\, 8929 Parallel Parkway\, Kansas City\, KS\, 66112\, United States
END:VEVENT
BEGIN:VEVENT
DTSTART;TZID=America/Chicago:20241015T183000
DTEND;TZID=America/Chicago:20241015T193000
DTSTAMP:20260423T071618
CREATED:20240915T185837Z
LAST-MODIFIED:20240915T185837Z
UID:2322-1729017000-1729020600@mo-kanpetpartners.org
SUMMARY:10/15 Volunteering With Your Pet
DESCRIPTION:This free workshop is designed to introduce the Pet Partners Therapy Animal Program as a way of volunteering in your community with your pet. We will cover program requirements as well as the steps in the process to become a registered therapy animal team. \nContact Julie Goodman at jajugoodman@gmail.com for the Zoom link.
URL:https://mo-kanpetpartners.org/event/10-15-volunteering-with-your-pet/
LOCATION:KS
CATEGORIES:Zoom Workshop
END:VEVENT
END:VCALENDAR