BEGIN:VCALENDAR
VERSION:2.0
PRODID:-//Mo-Kan Pet Partners - ECPv6.6.4.2//NONSGML v1.0//EN
CALSCALE:GREGORIAN
METHOD:PUBLISH
X-WR-CALNAME:Mo-Kan Pet Partners
X-ORIGINAL-URL:https://mo-kanpetpartners.org
X-WR-CALDESC:Events for Mo-Kan Pet Partners
REFRESH-INTERVAL;VALUE=DURATION:PT1H
X-Robots-Tag:noindex
X-PUBLISHED-TTL:PT1H
BEGIN:VTIMEZONE
TZID:America/Chicago
BEGIN:DAYLIGHT
TZOFFSETFROM:-0600
TZOFFSETTO:-0500
TZNAME:CDT
DTSTART:20190310T080000
END:DAYLIGHT
BEGIN:STANDARD
TZOFFSETFROM:-0500
TZOFFSETTO:-0600
TZNAME:CST
DTSTART:20191103T070000
END:STANDARD
BEGIN:DAYLIGHT
TZOFFSETFROM:-0600
TZOFFSETTO:-0500
TZNAME:CDT
DTSTART:20200308T080000
END:DAYLIGHT
BEGIN:STANDARD
TZOFFSETFROM:-0500
TZOFFSETTO:-0600
TZNAME:CST
DTSTART:20201101T070000
END:STANDARD
BEGIN:DAYLIGHT
TZOFFSETFROM:-0600
TZOFFSETTO:-0500
TZNAME:CDT
DTSTART:20210314T080000
END:DAYLIGHT
BEGIN:STANDARD
TZOFFSETFROM:-0500
TZOFFSETTO:-0600
TZNAME:CST
DTSTART:20211107T070000
END:STANDARD
BEGIN:DAYLIGHT
TZOFFSETFROM:-0600
TZOFFSETTO:-0500
TZNAME:CDT
DTSTART:20220313T080000
END:DAYLIGHT
BEGIN:STANDARD
TZOFFSETFROM:-0500
TZOFFSETTO:-0600
TZNAME:CST
DTSTART:20221106T070000
END:STANDARD
END:VTIMEZONE
BEGIN:VEVENT
DTSTART;TZID=America/Chicago:20220219T090000
DTEND;TZID=America/Chicago:20220219T130000
DTSTAMP:20260420T123351
CREATED:20211022T145236Z
LAST-MODIFIED:20211022T145720Z
UID:1951-1645261200-1645275600@mo-kanpetpartners.org
SUMMARY:February 19\, 2022 Evaluations at Providence Medical Center in KCK
DESCRIPTION:To schedule your evaluation\, first go to your Volunteer Registration in the Volunteer Center on the Pet Partners website (www.petpartners.org) and register for the evaluation date.
URL:https://mo-kanpetpartners.org/event/february-19-2022-evaluations-providence-medical-center-kck/
LOCATION:Providence Medical Center\, 8929 Parallel Parkway\, Kansas City\, KS\, 66112\, United States
END:VEVENT
BEGIN:VEVENT
DTSTART;TZID=America/Chicago:20220215T183000
DTEND;TZID=America/Chicago:20220215T200000
DTSTAMP:20260420T123351
CREATED:20211231T201350Z
LAST-MODIFIED:20211231T201730Z
UID:2007-1644949800-1644955200@mo-kanpetpartners.org
SUMMARY:Handling Skills For Safe Visits
DESCRIPTION:This free virtual workshop is designed for the Pet Partners Therapy Animal Team Handler who has completed the Handler Course and wishes to learn more about handling skills in preparation for their team evaluation and future therapy animal team visits. \nContact Julie Goodman via email at jajugoodman@gmail.com for the Zoom link.
URL:https://mo-kanpetpartners.org/event/handling-skills-safe-visits-6/
CATEGORIES:Zoom Workshop
END:VEVENT
BEGIN:VEVENT
DTSTART;TZID=America/Chicago:20220201T183000
DTEND;TZID=America/Chicago:20220201T193000
DTSTAMP:20260420T123351
CREATED:20211231T200752Z
LAST-MODIFIED:20211231T200752Z
UID:2006-1643740200-1643743800@mo-kanpetpartners.org
SUMMARY:Volunteering With Your Pet
DESCRIPTION:This free virtual workshop is designed to introduce the Pet Partners Therapy Animal Program as a way of volunteeringin the community with your pet. We will cover program requirements as well as the process for becoming a registered team. \nContact Julie Goodman @jajugoodman@gmail.com for the Zoom link.
URL:https://mo-kanpetpartners.org/event/volunteering-with-your-pet-7/
CATEGORIES:Zoom Workshop
END:VEVENT
BEGIN:VEVENT
DTSTART;TZID=America/Chicago:20220118T183000
DTEND;TZID=America/Chicago:20220118T200000
DTSTAMP:20260420T123351
CREATED:20210918T173726Z
LAST-MODIFIED:20210918T173726Z
UID:1929-1642530600-1642536000@mo-kanpetpartners.org
SUMMARY:Handling Skills For Safe Visits
DESCRIPTION:This free workshop is designed for the Pet Partners Therapy Animal team Handler who has completed the Handler course and wishes to learn more about handling skills in preparation for their team evaluation and future therapy animal visits. \nContact Julie Goodman via email at jajugoodman@gmail.com for the Zoom link.
URL:https://mo-kanpetpartners.org/event/handling-skills-safe-visits-5/
CATEGORIES:Zoom Workshop
END:VEVENT
BEGIN:VEVENT
DTSTART;TZID=America/Chicago:20220115T090000
DTEND;TZID=America/Chicago:20220115T130000
DTSTAMP:20260420T123351
CREATED:20211022T145129Z
LAST-MODIFIED:20211022T145654Z
UID:1950-1642237200-1642251600@mo-kanpetpartners.org
SUMMARY:January 15\, 2022 Evaluations at Providence Medical Center in KCK
DESCRIPTION:To schedule your evaluation\, first go to your Volunteer Registration in the Volunteer Center on the Pet Partners website (www.petpartners.org) and register for the evaluation date.
URL:https://mo-kanpetpartners.org/event/january-15-2022-evaluations-providence-medical-center-kck/
LOCATION:Providence Medical Center\, 8929 Parallel Parkway\, Kansas City\, KS\, 66112\, United States
END:VEVENT
BEGIN:VEVENT
DTSTART;TZID=America/Chicago:20220111T183000
DTEND;TZID=America/Chicago:20220111T193000
DTSTAMP:20260420T123351
CREATED:20210918T173430Z
LAST-MODIFIED:20210918T173430Z
UID:1927-1641925800-1641929400@mo-kanpetpartners.org
SUMMARY:Volunteering With Your Pet
DESCRIPTION:This free workshop is designed to introduce the Pet Partners Therapy Animal Program as a way of volunteering in the community with your pet. We will cover program requirements as well as the process for becoming a registered team. \nContact Julie Goodman via email at jajugoodman@gmail.com for the Zoom link.
URL:https://mo-kanpetpartners.org/event/volunteering-with-your-pet-6/
CATEGORIES:Zoom Workshop
END:VEVENT
BEGIN:VEVENT
DTSTART;TZID=America/Chicago:20211214T183000
DTEND;TZID=America/Chicago:20211214T200000
DTSTAMP:20260420T123351
CREATED:20210918T173121Z
LAST-MODIFIED:20210918T173121Z
UID:1925-1639506600-1639512000@mo-kanpetpartners.org
SUMMARY:Handling Skills For Safe Visits
DESCRIPTION:This free workshop is designed for the Pet Partners Therapy Animal Team Handler who has completed the Handler course and wishes to learn more about handling skills in preparation for their team evaluation and future therapy animal visits. \nContact Julie Goodman via email at jajugoodman@gmail.com for the Zoom link.
URL:https://mo-kanpetpartners.org/event/handling-skills-safe-visits-4/
CATEGORIES:Zoom Workshop
END:VEVENT
BEGIN:VEVENT
DTSTART;TZID=America/Chicago:20211207T183000
DTEND;TZID=America/Chicago:20211207T193000
DTSTAMP:20260420T123351
CREATED:20210918T172829Z
LAST-MODIFIED:20210918T172829Z
UID:1923-1638901800-1638905400@mo-kanpetpartners.org
SUMMARY:Volunteering With Your Pet
DESCRIPTION:This free workshop is designed to introduce the Pet Partners Therapy Animal Program as a way of volunteering in the community with your pet. We will cover program requirements as well as the process for becoming a registered team. \nContact Julie Goodman via email at jajugoodman@gmail.com for the Zoom link.
URL:https://mo-kanpetpartners.org/event/volunteering-with-your-pet-5/
CATEGORIES:Zoom Workshop
END:VEVENT
BEGIN:VEVENT
DTSTART;TZID=America/Chicago:20211204T090000
DTEND;TZID=America/Chicago:20211204T130000
DTSTAMP:20260420T123351
CREATED:20210714T154644Z
LAST-MODIFIED:20210714T154644Z
UID:1849-1638608400-1638622800@mo-kanpetpartners.org
SUMMARY:December 4 Evaluations at Providence Medical Center in KCK
DESCRIPTION:To schedule your evaluation\, first go to your Volunteer Registration in the Volunteer Center on the Pet Partners website (www.petpartners.org) and register for the evaluation date.
URL:https://mo-kanpetpartners.org/event/december-4-evaluations-providence-medical-center-kck/
LOCATION:Providence Medical Center\, 8929 Parallel Parkway\, Kansas City\, KS\, 66112\, United States
END:VEVENT
BEGIN:VEVENT
DTSTART;TZID=America/Chicago:20211116T183000
DTEND;TZID=America/Chicago:20211116T203000
DTSTAMP:20260420T123351
CREATED:20210918T172416Z
LAST-MODIFIED:20210918T172416Z
UID:1921-1637087400-1637094600@mo-kanpetpartners.org
SUMMARY:Handling Skills For Safe Visits
DESCRIPTION:This free workshop is designed for the Pet Partners Therapy Animal Team Handler who has completed the Handler course and wishes to learn more about handling skills in preparation for their team evaluation and future therapy animal visits. \nContact Julie Goodman via email at jajugoodman@gmail.com for the Zoom link.
URL:https://mo-kanpetpartners.org/event/handling-skills-safe-visits-3/
CATEGORIES:Zoom Workshop
END:VEVENT
BEGIN:VEVENT
DTSTART;TZID=America/Chicago:20211113T090000
DTEND;TZID=America/Chicago:20211113T130000
DTSTAMP:20260420T123351
CREATED:20210714T154533Z
LAST-MODIFIED:20210714T154533Z
UID:1847-1636794000-1636808400@mo-kanpetpartners.org
SUMMARY:November 13 Evaluations at Providence Medical Center in KCK
DESCRIPTION:To schedule your evaluation\, first go to your Volunteer Registration in the Volunteer Center on the Pet Partners website (www.petpartners.org) and register for the evaluation date.
URL:https://mo-kanpetpartners.org/event/november-13-evaluations-providence-medical-center-kck/
LOCATION:Providence Medical Center\, 8929 Parallel Parkway\, Kansas City\, KS\, 66112\, United States
END:VEVENT
BEGIN:VEVENT
DTSTART;TZID=America/Chicago:20211109T183000
DTEND;TZID=America/Chicago:20211109T200000
DTSTAMP:20260420T123351
CREATED:20210918T171951Z
LAST-MODIFIED:20210918T171951Z
UID:1919-1636482600-1636488000@mo-kanpetpartners.org
SUMMARY:Be The Best For Your Pet
DESCRIPTION:This free workshop is designed for all pet owners who want to improve their pet parenting skills. We will introduce the Pet Partners Therapy Animal Program and discuss how these important skills will help you develop a strong foundation as a therapy animal team. \nContact Julie Goodman via email at jajugoodman@gmail.com for the Zoom link.
URL:https://mo-kanpetpartners.org/event/be-the-best-for-your-pet-2/
CATEGORIES:Zoom Workshop
END:VEVENT
BEGIN:VEVENT
DTSTART;TZID=America/Chicago:20211101T183000
DTEND;TZID=America/Chicago:20211101T193000
DTSTAMP:20260420T123351
CREATED:20210918T171431Z
LAST-MODIFIED:20210918T171443Z
UID:1916-1635791400-1635795000@mo-kanpetpartners.org
SUMMARY:Volunteering With Your Pet
DESCRIPTION:This free workshopis designed to introduce the Pet Partners Therapy Animal Program as a way of volunteering in the community with your pet. We will cover program requirements as well as theprocess for becoming a registered team. \nContact Julie Goodman via email at jajugoodman@gmail.com for the Zoom link.
URL:https://mo-kanpetpartners.org/event/volunteering-with-your-pet-4/
CATEGORIES:Zoom Workshop
END:VEVENT
BEGIN:VEVENT
DTSTART;TZID=America/Chicago:20211023T090000
DTEND;TZID=America/Chicago:20211023T130000
DTSTAMP:20260420T123351
CREATED:20210714T154438Z
LAST-MODIFIED:20210714T154438Z
UID:1845-1634979600-1634994000@mo-kanpetpartners.org
SUMMARY:October 23 Evaluations at Providence Medical Center in KCK
DESCRIPTION:To schedule your evaluation\, first go to your Volunteer Registration in the Volunteer Center on the Pet Partners website (www.petpartners.org) and register for the evaluation date.
URL:https://mo-kanpetpartners.org/event/october-23-evaluations-providence-medical-center-kck/
LOCATION:Providence Medical Center\, 8929 Parallel Parkway\, Kansas City\, KS\, 66112\, United States
END:VEVENT
BEGIN:VEVENT
DTSTART;TZID=America/Chicago:20211020T183000
DTEND;TZID=America/Chicago:20211020T200000
DTSTAMP:20260420T123351
CREATED:20210722T004221Z
LAST-MODIFIED:20210722T004221Z
UID:1896-1634754600-1634760000@mo-kanpetpartners.org
SUMMARY:Being The Best For Your Pet
DESCRIPTION:If you are interested in attending this workshop\, email Julie Goodman at jajugoodman@gmail.com to receive the Zoom link.
URL:https://mo-kanpetpartners.org/event/being-the-best-for-your-pet-2/
CATEGORIES:Zoom Workshop
END:VEVENT
BEGIN:VEVENT
DTSTART;TZID=America/Chicago:20211013T183000
DTEND;TZID=America/Chicago:20211013T193000
DTSTAMP:20260420T123351
CREATED:20210722T002825Z
LAST-MODIFIED:20210722T002825Z
UID:1894-1634149800-1634153400@mo-kanpetpartners.org
SUMMARY:Volunteering With Your Pet
DESCRIPTION:If you are interested in attending this workshop\, email Julie Goodman at jajugoodman@gmail.com to receive the Zoom link.
URL:https://mo-kanpetpartners.org/event/volunteering-with-your-pet-3/
CATEGORIES:Zoom Workshop
END:VEVENT
BEGIN:VEVENT
DTSTART;TZID=America/Chicago:20211006T183000
DTEND;TZID=America/Chicago:20211006T200000
DTSTAMP:20260420T123351
CREATED:20210722T002404Z
LAST-MODIFIED:20210722T002404Z
UID:1892-1633545000-1633550400@mo-kanpetpartners.org
SUMMARY:Handling Skills For Safe Visits
DESCRIPTION:If you are interested in attending this workshop\, email Julie Goodman at jajugoodman@gmail.com to receive the Zoom link.
URL:https://mo-kanpetpartners.org/event/handling-skills-safe-visits-2/
CATEGORIES:Zoom Workshop
END:VEVENT
BEGIN:VEVENT
DTSTART;TZID=America/Chicago:20210925T090000
DTEND;TZID=America/Chicago:20210925T130000
DTSTAMP:20260420T123351
CREATED:20210714T154215Z
LAST-MODIFIED:20210714T154215Z
UID:1843-1632560400-1632574800@mo-kanpetpartners.org
SUMMARY:September 25 Evaluations at Providence Medical Center in KCK
DESCRIPTION:To schedule your evaluation\, first go to your Volunteer Registration in the Volunteer Center on the Pet Partners website (www.petpartners.org) and register for the evaluation date.
URL:https://mo-kanpetpartners.org/event/september-25-evaluations-providence-medical-center-kck/
LOCATION:Providence Medical Center\, 8929 Parallel Parkway\, Kansas City\, KS\, 66112\, United States
END:VEVENT
BEGIN:VEVENT
DTSTART;TZID=America/Chicago:20210922T183000
DTEND;TZID=America/Chicago:20210922T200000
DTSTAMP:20260420T123351
CREATED:20210722T002000Z
LAST-MODIFIED:20210722T002000Z
UID:1890-1632335400-1632340800@mo-kanpetpartners.org
SUMMARY:Be The Best For Your Pet
DESCRIPTION:If you are interested in attending this workshop\, email Julie Goodman at jajugoodman@gmail.com for the Zoom link.
URL:https://mo-kanpetpartners.org/event/be-the-best-for-your-pet/
CATEGORIES:Zoom Workshop
END:VEVENT
BEGIN:VEVENT
DTSTART;TZID=America/Chicago:20210915T183000
DTEND;TZID=America/Chicago:20210915T193000
DTSTAMP:20260420T123351
CREATED:20210722T001508Z
LAST-MODIFIED:20210722T001508Z
UID:1888-1631730600-1631734200@mo-kanpetpartners.org
SUMMARY:Volunteering With Your Pet
DESCRIPTION:If you are interested in attending this workshop\, email Julie Goodman at jajugoodman@gmail.com for the Zoom link.
URL:https://mo-kanpetpartners.org/event/volunteering-with-your-pet-2/
CATEGORIES:Zoom Workshop
END:VEVENT
BEGIN:VEVENT
DTSTART;TZID=America/Chicago:20210908T183000
DTEND;TZID=America/Chicago:20210908T200000
DTSTAMP:20260420T123351
CREATED:20210722T001145Z
LAST-MODIFIED:20210722T001145Z
UID:1886-1631125800-1631131200@mo-kanpetpartners.org
SUMMARY:Handling Skills For Safe Visits
DESCRIPTION:If you are interested in attending this workshop\, email Julie Goodman at jajugoodman@gmail.com for the Zoom link.
URL:https://mo-kanpetpartners.org/event/handling-skills-safe-visits/
CATEGORIES:Zoom Workshop
END:VEVENT
BEGIN:VEVENT
DTSTART;TZID=America/Chicago:20210825T183000
DTEND;TZID=America/Chicago:20210825T200000
DTSTAMP:20260420T123351
CREATED:20210722T000653Z
LAST-MODIFIED:20210722T000653Z
UID:1884-1629916200-1629921600@mo-kanpetpartners.org
SUMMARY:Being The Best For Your Pet
DESCRIPTION:If you are interested in attending this workshop\, email Julie Goodman at jajugoodman@gmail.com for the Zoom link.
URL:https://mo-kanpetpartners.org/event/being-the-best-for-your-pet/
CATEGORIES:Zoom Workshop
END:VEVENT
BEGIN:VEVENT
DTSTART;TZID=America/Chicago:20210815T140000
DTEND;TZID=America/Chicago:20210815T150000
DTSTAMP:20260420T123351
CREATED:20210721T235837Z
LAST-MODIFIED:20210721T235837Z
UID:1882-1629036000-1629039600@mo-kanpetpartners.org
SUMMARY:Volunteering With Your Pet
DESCRIPTION:  \nIf you are interested in attending this workshop\, email Julie Goodman at jajugoodman@gmail.com to obtain the Zoom link.
URL:https://mo-kanpetpartners.org/event/volunteering-with-your-pet/
CATEGORIES:Zoom Workshop
END:VEVENT
BEGIN:VEVENT
DTSTART;TZID=America/Chicago:20200215T090000
DTEND;TZID=America/Chicago:20200215T120000
DTSTAMP:20260420T123351
CREATED:20191129T234724Z
LAST-MODIFIED:20191129T235004Z
UID:1747-1581757200-1581768000@mo-kanpetpartners.org
SUMMARY:February 15 Evaluations at Providence Medical Center
DESCRIPTION:To schedule your evaluation\, first go to your Volunteer Registration in the Volunteer Center on the Pet Partners website (www.petpartner.org). Look for evaluations in Kansas City\, MO (not KS) and sign up.
URL:https://mo-kanpetpartners.org/event/february-15-evaluations-providence-medical-center/
LOCATION:Providence Medical Center\, 8929 Parallel Parkway\, Kansas City\, KS\, 66112\, United States
CATEGORIES:Evaluations
END:VEVENT
BEGIN:VEVENT
DTSTART;VALUE=DATE:20200208
DTEND;VALUE=DATE:20200209
DTSTAMP:20260420T123351
CREATED:20191024T161313Z
LAST-MODIFIED:20191024T161334Z
UID:1706-1581120000-1581206399@mo-kanpetpartners.org
SUMMARY:Handler Course
DESCRIPTION:
URL:https://mo-kanpetpartners.org/event/handler-course-8/
LOCATION:Providence Medical Center\, 8929 Parallel Parkway\, Kansas City\, KS\, 66112\, United States
END:VEVENT
BEGIN:VEVENT
DTSTART;TZID=America/Chicago:20200111T090000
DTEND;TZID=America/Chicago:20200111T120000
DTSTAMP:20260420T123351
CREATED:20191129T234502Z
LAST-MODIFIED:20191129T234920Z
UID:1745-1578733200-1578744000@mo-kanpetpartners.org
SUMMARY:January 11 Evaluations at Truman Medical Center Lakewood Pavilion
DESCRIPTION:To schedule your evaluation\, first go to your Volunteer Registration in the Volunteer Center on the Pet Partners website (www.petpartner.org). Look for evaluations in Kansas City\, MO (not KS) and sign up.
URL:https://mo-kanpetpartners.org/event/january-11-evaluations-truman-medical-center-lakewood-pavilion/
LOCATION:TMC Lakewood\, 7900 Lee's Summit Rd\, Kansas City\, MO\, 64139\, United States
CATEGORIES:Evaluations
END:VEVENT
BEGIN:VEVENT
DTSTART;TZID=America/Chicago:20191221T090000
DTEND;TZID=America/Chicago:20191221T120000
DTSTAMP:20260420T123351
CREATED:20191129T234210Z
LAST-MODIFIED:20191129T234210Z
UID:1742-1576918800-1576929600@mo-kanpetpartners.org
SUMMARY:December 21 Evaluations at Providence Medical Center
DESCRIPTION:To schedule your evaluation\, first go to your Volunteer Registration in the Volunteer Center on the Pet Partners website (www.petpartner.org). Look for evaluations in Kansas City\, MO (not KS) and sign up.
URL:https://mo-kanpetpartners.org/event/december-21-evaluations-providence-medical-center/
LOCATION:Providence Medical Center\, 8929 Parallel Parkway\, Kansas City\, KS\, 66112\, United States
END:VEVENT
BEGIN:VEVENT
DTSTART;TZID=America/Chicago:20191214T090000
DTEND;TZID=America/Chicago:20191214T130000
DTSTAMP:20260420T123351
CREATED:20190312T204020Z
LAST-MODIFIED:20191129T234324Z
UID:1502-1576314000-1576328400@mo-kanpetpartners.org
SUMMARY:December 14 Evaluations at Truman Medical Center Lakewood Pavilion
DESCRIPTION:To schedule your evaluation\, first go to your Volunteer Registration in the Volunteer Center on the Pet Partners website (www.petpartner.org). Look for evaluations in Kansas City\, MO (not KS) and sign up.
URL:https://mo-kanpetpartners.org/event/december-evaluations/
LOCATION:TMC Lakewood\, 7900 Lee's Summit Rd\, Kansas City\, MO\, 64139\, United States
CATEGORIES:Evaluations
END:VEVENT
BEGIN:VEVENT
DTSTART;TZID=America/Chicago:20191123T090000
DTEND;TZID=America/Chicago:20191123T130000
DTSTAMP:20260420T123351
CREATED:20190312T203939Z
LAST-MODIFIED:20190819T174018Z
UID:1500-1574499600-1574514000@mo-kanpetpartners.org
SUMMARY:November Evaluations
DESCRIPTION:To schedule your evaluation\, first go to your Volunteer Registration in the Volunteer Center on the Pet Partners website (www.petpartner.org). Look for evaluations in Kansas City\, MO (not KS) and sign up.
URL:https://mo-kanpetpartners.org/event/november-evaluations/
LOCATION:TMC Lakewood\, 7900 Lee's Summit Rd\, Kansas City\, MO\, 64139\, United States
CATEGORIES:Evaluations
END:VEVENT
BEGIN:VEVENT
DTSTART;VALUE=DATE:20191102
DTEND;VALUE=DATE:20191103
DTSTAMP:20260420T123351
CREATED:20190805T171748Z
LAST-MODIFIED:20190805T171748Z
UID:1602-1572652800-1572739199@mo-kanpetpartners.org
SUMMARY:Handler Course
DESCRIPTION:
URL:https://mo-kanpetpartners.org/event/handler-course-7/
END:VEVENT
END:VCALENDAR