BEGIN:VCALENDAR
VERSION:2.0
PRODID:-//Mo-Kan Pet Partners - ECPv6.6.4.2//NONSGML v1.0//EN
CALSCALE:GREGORIAN
METHOD:PUBLISH
X-ORIGINAL-URL:https://mo-kanpetpartners.org
X-WR-CALDESC:Events for Mo-Kan Pet Partners
REFRESH-INTERVAL;VALUE=DURATION:PT1H
X-Robots-Tag:noindex
X-PUBLISHED-TTL:PT1H
BEGIN:VTIMEZONE
TZID:America/Chicago
BEGIN:DAYLIGHT
TZOFFSETFROM:-0600
TZOFFSETTO:-0500
TZNAME:CDT
DTSTART:20260308T080000
END:DAYLIGHT
BEGIN:STANDARD
TZOFFSETFROM:-0500
TZOFFSETTO:-0600
TZNAME:CST
DTSTART:20261101T070000
END:STANDARD
END:VTIMEZONE
BEGIN:VEVENT
DTSTART;TZID=America/Chicago:20260104T090000
DTEND;TZID=America/Chicago:20260104T130000
DTSTAMP:20260420T035058
CREATED:20251007T171604Z
LAST-MODIFIED:20251007T171656Z
UID:2477-1767517200-1767531600@mo-kanpetpartners.org
SUMMARY:1/4/2026 - Team Evaluations at Providence Medical Center
DESCRIPTION:
URL:https://mo-kanpetpartners.org/event/team-evaluations-at-providence-medical-center/
LOCATION:KS
CATEGORIES:Evaluations
END:VEVENT
BEGIN:VEVENT
DTSTART;TZID=America/Chicago:20260106T183000
DTEND;TZID=America/Chicago:20260106T200000
DTSTAMP:20260420T035058
CREATED:20251216T233546Z
LAST-MODIFIED:20251218T170535Z
UID:2498-1767724200-1767729600@mo-kanpetpartners.org
SUMMARY:Volunteering With Your Pet
DESCRIPTION:This free workshop is designed to introduce the Pet Partners Therapy Animal Program as a way of voluntereing in your community with your pet. We will cover program requirements as well as the process for becoming a registered therapy animal team. \nContact Julie Goodman at jajugoodman@gmail.com for the Zoom link.
URL:https://mo-kanpetpartners.org/event/volunteering-with-your-pet-32/
LOCATION:KS
CATEGORIES:Zoom Workshop
END:VEVENT
BEGIN:VEVENT
DTSTART;TZID=America/Chicago:20260120T183000
DTEND;TZID=America/Chicago:20260120T193000
DTSTAMP:20260420T035058
CREATED:20251216T233658Z
LAST-MODIFIED:20251216T233658Z
UID:2499-1768933800-1768937400@mo-kanpetpartners.org
SUMMARY:Volunteering With Your Pet
DESCRIPTION:This free workshop is designed to introduce the Pet Partners Therapy Animal Program as a way of voluntereing in your community with your pet. We will cover program requirements as well as the process for becoming a registered therapy animal team. \nContact Julie Goodman at jajugoodman@gmail.com for the Zoom link.
URL:https://mo-kanpetpartners.org/event/volunteering-with-your-pet-33/
LOCATION:KS
CATEGORIES:Zoom Workshop
END:VEVENT
END:VCALENDAR